BEGIN:VCALENDAR
VERSION:2.0
PRODID:-//Eastside for All - ECPv6.15.20//NONSGML v1.0//EN
CALSCALE:GREGORIAN
METHOD:PUBLISH
X-ORIGINAL-URL:https://bh.eastsideforall.org
X-WR-CALDESC:Events for Eastside for All
REFRESH-INTERVAL;VALUE=DURATION:PT1H
X-Robots-Tag:noindex
X-PUBLISHED-TTL:PT1H
BEGIN:VTIMEZONE
TZID:America/Los_Angeles
BEGIN:DAYLIGHT
TZOFFSETFROM:-0800
TZOFFSETTO:-0700
TZNAME:PDT
DTSTART:20240310T100000
END:DAYLIGHT
BEGIN:STANDARD
TZOFFSETFROM:-0700
TZOFFSETTO:-0800
TZNAME:PST
DTSTART:20241103T090000
END:STANDARD
BEGIN:DAYLIGHT
TZOFFSETFROM:-0800
TZOFFSETTO:-0700
TZNAME:PDT
DTSTART:20250309T100000
END:DAYLIGHT
BEGIN:STANDARD
TZOFFSETFROM:-0700
TZOFFSETTO:-0800
TZNAME:PST
DTSTART:20251102T090000
END:STANDARD
BEGIN:DAYLIGHT
TZOFFSETFROM:-0800
TZOFFSETTO:-0700
TZNAME:PDT
DTSTART:20260308T100000
END:DAYLIGHT
BEGIN:STANDARD
TZOFFSETFROM:-0700
TZOFFSETTO:-0800
TZNAME:PST
DTSTART:20261101T090000
END:STANDARD
END:VTIMEZONE
BEGIN:VEVENT
DTSTART;TZID=America/Los_Angeles:20251202T180000
DTEND;TZID=America/Los_Angeles:20251202T210000
DTSTAMP:20260425T161910
CREATED:20241029T192523Z
LAST-MODIFIED:20241029T192523Z
UID:10001079-1764698400-1764709200@bh.eastsideforall.org
SUMMARY:Bellevue City Council Meeting
DESCRIPTION:Bellevue City Council meetings are conducted in a hybrid manner\, with in-person and virtual options. Whether you are attending in person or virtually\, you may register to speak at Council Oral Communications starting at noon the day of the meeting. In-person assistance to register to speak is available at 5 p.m. outside the City Council meeting room on the first floor. \nTo attend a meeting online\, you can do either of the following: \n\nCall 253-215-8782 and enter webinar ID 981 6779 1723.\nGo to Zoom and enter webinar ID 981 6779 1723\, password 137192.\n\nThe meeting may also be viewed live on Bellevue TV channel 21 or livestreamed on Bellevue Television YouTube. \nYou can access City Council agendas and minutes on the council calendar. Video of previous meetings is accessible any time on the council calendar.  \nGuide to speaking at a City Council Meeting
URL:https://bh.eastsideforall.org/advocacy-event/bellevue-city-council-meeting-3-2-2/2025-12-02/
LOCATION:Bellevue City Hall\, 450 110th Avenue NE\, Bellevue\, WA\, 98004\, United States
CATEGORIES:City of Bellevue,Council Meeting
END:VEVENT
BEGIN:VEVENT
DTSTART;TZID=America/Los_Angeles:20251202T190000
DTEND;TZID=America/Los_Angeles:20251202T210000
DTSTAMP:20260425T161910
CREATED:20250207T004146Z
LAST-MODIFIED:20250207T004814Z
UID:10001369-1764702000-1764709200@bh.eastsideforall.org
SUMMARY:Redmond City Council 1st Tuesday Regular Meeting
DESCRIPTION:The agenda can be found here when it is available. Please note that meetings may end early or run late. \nAll Council meetings are accessible in person and remotely. Listen live by dialing 1-510-335-7371 or watch live on RCTV at Redmond.gov/rctvlive and Facebook Live (@CityofRedmond)\, and on Comcast Channel 21/321 and Ziply Channel 34.  \nVideos of the meetings can also be found on the City’s website. \nHow to submit an “Item from the Audience”:\nTo provide comment in-person\, please sign in on the sheet in the Council chambers at the time of the meeting. \nIn the event of difficulty attending a meeting in person\, please contact the Clerk’s Office by 2 p.m. the day of the meeting for remote comment registration form. \nWritten comment may be emailed to Clerk’s Office by 2 p.m. on the day of the meeting (500 word limit – please label as “Items from the Audience”). Comments will be distributed to the City Council and entered into the record. Comments will not be read during the meeting. \n  \nFor tips and guidelines on participating in a city council meeting: \nPublic Meetings Participation Guide from the City of Redmond \nGuide to speaking at a City Council Meeting
URL:https://bh.eastsideforall.org/advocacy-event/redmond-city-council-1st-tuesday-regular-meeting/2025-12-02/
LOCATION:Redmond City Hall\, 15670 NE 85th St\, Redmond\, WA\, 98052
CATEGORIES:City of Redmond,Council Meeting
END:VEVENT
BEGIN:VEVENT
DTSTART;TZID=America/Los_Angeles:20251202T193000
DTEND;TZID=America/Los_Angeles:20251202T213000
DTSTAMP:20260425T161910
CREATED:20241030T173734Z
LAST-MODIFIED:20250328T181041Z
UID:10001307-1764703800-1764711000@bh.eastsideforall.org
SUMMARY:Kirkland City Council 1st Tues Regular Meeting
DESCRIPTION:City Council Regular Meeting: \nThe FINALIZED agenda will be published the Friday before the meeting and can be found here.  \nKirkland city council meetings are now hybrid: you can attend in person or by Zoom. \nThe virtual meeting can be accessed in the following ways: \n1. Watch livestream on Kirkland TV\, YouTube\, Facebook or the city website. \n2. Watch or participate via Zoom\, either by calling  877-853-5257 or 206-337-9723 (both toll-free in the US) or on your computer here (Webinar ID 948 – 2369 – 3020\, passcode 791618). \n3. The meeting is recorded and available to the public\, generally within 24 hours. Watch the recorded meeting the next day. \nNote that meetings may end early or run late. \nThe Study Session is not part of the Council Meeting\, but it is open for public viewing. The Study Session happens at 5:30pm\, directly ahead of the KCC meeting. It can also be accessed in all of the ways listed above. \nTo Participate in This Meeting: \nMembers of the public may address the City Council live during the ‘Items from the Audience’ subject to the Council protocol of a limit of three speakers on each side of a particular issue\, for a maximum of three minutes each\, or during scheduled Public Hearings\, via the Zoom connection link provided on each agenda.  \nGuide to speaking at a City Council Meeting
URL:https://bh.eastsideforall.org/advocacy-event/kirkland-city-council-meeting-11-2-2-2/2025-12-02/
LOCATION:Kirkland City Hall\, 123 5th Ave\, Kirkand\, WA\, 98033
CATEGORIES:City of Kirkland,Council Meeting
END:VEVENT
BEGIN:VEVENT
DTSTART;TZID=America/Los_Angeles:20251206T110000
DTEND;TZID=America/Los_Angeles:20251206T130000
DTSTAMP:20260425T161910
CREATED:20241029T231426Z
LAST-MODIFIED:20251030T182050Z
UID:10001231-1765018800-1765026000@bh.eastsideforall.org
SUMMARY:A Joyful Jam! Reunión Festiva
DESCRIPTION:Year-End Community Celebration | Reunión Festiva\nWe warmly invite our friends\, partners\, and supporters to our annual community potluck! Come meet others who care deeply about an Eastside that stands for racial justice\, the power of community\, and true belonging for all.  \nBecause joy is a form of resistance. \nIf you’re able to\, please bring a dish to share. \nSign up below.\n……………. \nSabado 6 de diciembre de 11am a 1pm\n\nTogether Center: 16305 NE 87th St\, Redmond \nVengan a nuestra celebración anual y a compartir comida. Celebrando 5 años. Reunión de personas que nos preocupamos profundamente por la justicia racial\, el poder de la comunidad y la verdadera pertenencia para todos en el este del condado de King. \nLa alegría es una forma de resistencia. \nSi puede traiga algo de comida para compartir. \nRegístrese abajo.
URL:https://bh.eastsideforall.org/advocacy-event/a-joyful-jam/
LOCATION:Together Center\, 16305 Northeast 87th St\, Redmond\, 98052\, United States
ATTACH;FMTTYPE=image/png:https://bh.eastsideforall.org/wp-content/uploads/2024/10/website-joyful-jam-banner2.png
END:VEVENT
BEGIN:VEVENT
DTSTART;TZID=America/Los_Angeles:20251209T180000
DTEND;TZID=America/Los_Angeles:20251209T210000
DTSTAMP:20260425T161910
CREATED:20241029T192523Z
LAST-MODIFIED:20241029T192523Z
UID:10001080-1765303200-1765314000@bh.eastsideforall.org
SUMMARY:Bellevue City Council Meeting
DESCRIPTION:Bellevue City Council meetings are conducted in a hybrid manner\, with in-person and virtual options. Whether you are attending in person or virtually\, you may register to speak at Council Oral Communications starting at noon the day of the meeting. In-person assistance to register to speak is available at 5 p.m. outside the City Council meeting room on the first floor. \nTo attend a meeting online\, you can do either of the following: \n\nCall 253-215-8782 and enter webinar ID 981 6779 1723.\nGo to Zoom and enter webinar ID 981 6779 1723\, password 137192.\n\nThe meeting may also be viewed live on Bellevue TV channel 21 or livestreamed on Bellevue Television YouTube. \nYou can access City Council agendas and minutes on the council calendar. Video of previous meetings is accessible any time on the council calendar.  \nGuide to speaking at a City Council Meeting
URL:https://bh.eastsideforall.org/advocacy-event/bellevue-city-council-meeting-3-2-2/2025-12-09/
LOCATION:Bellevue City Hall\, 450 110th Avenue NE\, Bellevue\, WA\, 98004\, United States
CATEGORIES:City of Bellevue,Council Meeting
END:VEVENT
BEGIN:VEVENT
DTSTART;TZID=America/Los_Angeles:20251209T193000
DTEND;TZID=America/Los_Angeles:20251209T213000
DTSTAMP:20260425T161910
CREATED:20241030T223200Z
LAST-MODIFIED:20251204T224959Z
UID:10001354-1765308600-1765315800@bh.eastsideforall.org
SUMMARY:Kirkland City Council Regular Meeting (rescheduled cadence for December)
DESCRIPTION:City Council Regular Meeting: \nThe FINALIZED agenda will be published the Friday before the meeting and can be found here.  \nKirkland City Council (KCC) meetings are now hybrid: you can attend in person or by Zoom. \nThe virtual meeting can be accessed in the following ways: \n1. Watch livestream on Kirkland TV\, YouTube\, Facebook or the city website. \n2. Watch or participate via Zoom\, either by calling 253-215-8782 or 206-337-9723 (both toll-free in the US) or on your computer here (Webinar ID 833-0932-5268; no passcode needed). \n3. The meeting is recorded and available to the public\, generally within 24 hours.  Watch the recorded meeting the next day. \nNote that meetings may end early or run late. \nThe Study Session is not part of the Council Meeting\, but it is open for public viewing. The Study Session happens at 5:30pm\, directly ahead of the KCC meeting. It can also be accessed in all of the ways listed above. \nTo Participate in This Meeting: \nMembers of the public may address the City Council live during the “Items from the Audience\,” subject to the Council protocol of a limit of three speakers on each side of a particular issue\, for a maximum of three minutes each\, or during scheduled Public Hearings\, via the Zoom connection link provided on each agenda.  \nGuide to speaking at a City Council Meeting
URL:https://bh.eastsideforall.org/advocacy-event/kirkland-city-council-1st-tues-regular-meeting-rescheduled-for-holidays/
LOCATION:Kirkland City Hall\, 123 5th Ave\, Kirkand\, WA\, 98033
CATEGORIES:City of Kirkland,Council Meeting
END:VEVENT
BEGIN:VEVENT
DTSTART;TZID=America/Los_Angeles:20251210T183000
DTEND;TZID=America/Los_Angeles:20251210T203000
DTSTAMP:20260425T161910
CREATED:20250328T233025Z
LAST-MODIFIED:20250328T233025Z
UID:10001809-1765391400-1765398600@bh.eastsideforall.org
SUMMARY:Bellevue Planning Commission - 2nd Wednesdays
DESCRIPTION:The Planning Commission meets the second and fourth Wednesdays of each month at 6:30 p.m. and holds other special meetings as scheduled. Meetings are in Conference Room 1E-113 at City Hall and also on Zoom. the passcode is: 983801 \nAll meetings\, including study sessions and public hearings\, are open to the public\, and comments are always welcome. Comments received in writing or electronically sent to the Planning Commission email address\, planningcommission@bellevuewa.gov will be provided to the commission at its next scheduled meeting. If you wish to make a comment at the meeting\, please refer to the agenda. \nWritten comments will be included in the packet if received by 11 a.m. the Tuesday the week preceding the meeting. All other comments received by 11 a.m. the day of the meeting will be emailed to the commissioners before the meeting. \nPublic comments\, including information such as email\, mailing address and phone contact information sent to the Planning Commission email address is subject to public disclosure and may be included in the Planning Commission packet. \nThe sign-up for oral communications and public hearings will open at noon the day of the meeting and close at 6 p.m. \n\nPlanning Commission Oral Communications Speaker Registration
URL:https://bh.eastsideforall.org/advocacy-event/bellevue-planning-commission-2nd-wednesdays/2025-12-10/
LOCATION:Bellevue City Hall\, 450 110th Avenue NE\, Bellevue\, WA\, 98004\, United States
CATEGORIES:City of Bellevue
END:VEVENT
BEGIN:VEVENT
DTSTART;TZID=America/Los_Angeles:20251211T180000
DTEND;TZID=America/Los_Angeles:20251211T200000
DTSTAMP:20260425T161910
CREATED:20251212T005809Z
LAST-MODIFIED:20251212T005828Z
UID:10002369-1765476000-1765483200@bh.eastsideforall.org
SUMMARY:Kirkland Planning Commission Meeting
DESCRIPTION:The Kirkland Planning Commission meets at 6 pm on the second and fourth Thursday of each month in the Council Chambers at City Hall\, 123 5th Ave.  \nYou can watch or participate in regular meetings and study sessions via Zoom\, either by calling 253-215-8782 or online here (webinar ID 840 3881 2324\, passcode 114965). The meetings are recorded and posted on the City’s website. \nPlease visit our Calls to Action page to learn more about the topics Eastside For All is working on\, and for more details about how to provide public comment!
URL:https://bh.eastsideforall.org/advocacy-event/kirkland-planning-commission/
LOCATION:Kirkland City Hall\, 123 5th Ave\, Kirkand\, WA\, 98033
CATEGORIES:City of Kirkland
END:VEVENT
BEGIN:VEVENT
DTSTART;TZID=America/Los_Angeles:20251217T190000
DTEND;TZID=America/Los_Angeles:20251217T210000
DTSTAMP:20260425T161910
CREATED:20251212T011203Z
LAST-MODIFIED:20251212T011203Z
UID:10002374-1765998000-1766005200@bh.eastsideforall.org
SUMMARY:Redmond Planning Commission Special Meeting
DESCRIPTION:The Redmond Planning Commission meets at 7 pm on the second and fourth Wednesdays of each month in the City Council Chambers. Special meetings occur occasionally on the first\, third\, and/or fifth Wednesdays.  \nPlanning Commission meetings can be viewed live on RCTV online (redmond.gov/rctvlive)\, Comcast Channel 21/321\, Ziply Channel 34\, Facebook\, or you can listen live by calling 510-335-7371. OnDemand viewing is posted within 24 hours\, with replays shown on a regular schedule. \nPlease visit our Calls to Action page to learn more about the topics Eastside For All is working on\, and for more details about how to provide public comment!
URL:https://bh.eastsideforall.org/advocacy-event/redmond-planning-commission-special-meeting/
LOCATION:Redmond City Hall\, 15670 NE 85th St\, Redmond\, WA\, 98052
CATEGORIES:City of Redmond
END:VEVENT
END:VCALENDAR