BEGIN:VCALENDAR
VERSION:2.0
PRODID:-//Eastside for All - ECPv6.15.20//NONSGML v1.0//EN
CALSCALE:GREGORIAN
METHOD:PUBLISH
X-ORIGINAL-URL:https://bh.eastsideforall.org
X-WR-CALDESC:Events for Eastside for All
REFRESH-INTERVAL;VALUE=DURATION:PT1H
X-Robots-Tag:noindex
X-PUBLISHED-TTL:PT1H
BEGIN:VTIMEZONE
TZID:America/Los_Angeles
BEGIN:DAYLIGHT
TZOFFSETFROM:-0800
TZOFFSETTO:-0700
TZNAME:PDT
DTSTART:20250309T100000
END:DAYLIGHT
BEGIN:STANDARD
TZOFFSETFROM:-0700
TZOFFSETTO:-0800
TZNAME:PST
DTSTART:20251102T090000
END:STANDARD
BEGIN:DAYLIGHT
TZOFFSETFROM:-0800
TZOFFSETTO:-0700
TZNAME:PDT
DTSTART:20260308T100000
END:DAYLIGHT
BEGIN:STANDARD
TZOFFSETFROM:-0700
TZOFFSETTO:-0800
TZNAME:PST
DTSTART:20261101T090000
END:STANDARD
BEGIN:DAYLIGHT
TZOFFSETFROM:-0800
TZOFFSETTO:-0700
TZNAME:PDT
DTSTART:20270314T100000
END:DAYLIGHT
BEGIN:STANDARD
TZOFFSETFROM:-0700
TZOFFSETTO:-0800
TZNAME:PST
DTSTART:20271107T090000
END:STANDARD
END:VTIMEZONE
BEGIN:VEVENT
DTSTART;TZID=America/Los_Angeles:20260203T173000
DTEND;TZID=America/Los_Angeles:20260203T213000
DTSTAMP:20260425T124407
CREATED:20260128T181738Z
LAST-MODIFIED:20260128T181738Z
UID:10002392-1770139800-1770154200@bh.eastsideforall.org
SUMMARY:Kirkland City Council Meeting and Study Session
DESCRIPTION:The Kirkland City Council meets at 7:30 pm on the first and third Tuesday of each month in the Council Chambers at City Hall\, 123 5th Ave. Study sessions are held before regular meetings starting at 5:30 pm; no official action may be taken at study sessions.  \nYou can watch or participate in regular meetings and study sessions via Zoom\, either by calling 253-215-8782 or 206-337-9723 (both toll-free in the US) or online here (webinar ID 833 0932 5268; no passcode needed). Meetings can be watched live on Kirkland TV\, YouTube\, Facebook or the city website. The meetings are recorded and available to the public\, generally within 24 hours and can be found here the next day. \nPlease visit our Calls to Action page to learn more about the topics Eastside For All is working on\, and for more details about how to provide public comment!
URL:https://bh.eastsideforall.org/advocacy-event/kirkland-city-council-meeting-and-study-session/
LOCATION:Kirkland City Hall\, 123 5th Ave\, Kirkand\, WA\, 98033
CATEGORIES:City of Kirkland,Council Meeting
END:VEVENT
BEGIN:VEVENT
DTSTART;TZID=America/Los_Angeles:20260203T180000
DTEND;TZID=America/Los_Angeles:20260203T200000
DTSTAMP:20260425T124407
CREATED:20260202T230927Z
LAST-MODIFIED:20260202T230927Z
UID:10002404-1770141600-1770148800@bh.eastsideforall.org
SUMMARY:Bellevue City Council Meeting
DESCRIPTION:The Bellevue City Council meets at 6 pm on the first four Tuesdays of each month at City Hall\, 450 110th Ave NE\, and is able to be viewed via Zoom (webinar ID 871 6827 7098\, password 534267)\, live on Bellevue TV channel 21\, or livestreamed on Bellevue Television YouTube. The agenda for the coming meeting is usually posted on the meeting calendar the Thursday before the meeting.  \nPlease visit our Calls to Action page to learn more about the topics Eastside For All is working on\, and for more details about how to provide public comment!
URL:https://bh.eastsideforall.org/advocacy-event/bellevue-city-council-meeting-4/
LOCATION:Bellevue City Hall\, 450 110th Avenue NE\, Bellevue\, WA\, 98004\, United States
CATEGORIES:City of Bellevue,Council Meeting
END:VEVENT
BEGIN:VEVENT
DTSTART;TZID=America/Los_Angeles:20260203T190000
DTEND;TZID=America/Los_Angeles:20260203T210000
DTSTAMP:20260425T124407
CREATED:20260128T182829Z
LAST-MODIFIED:20260128T182829Z
UID:10002398-1770145200-1770152400@bh.eastsideforall.org
SUMMARY:Redmond City Council Business Meeting
DESCRIPTION:The Redmond City Council meets at 7 pm every Tuesday (except for the fifth Tuesday of a month) at Redmond City Hall. Meetings can be watched live on RCTV (redmond.gov/rctvlive)\, Comcast Channel 21/321\, Ziply Channel 34\, YouTube (https://www.youtube.com/@CityofRedmond/streams)\, or you can listen live by calling 510-335-7371. \nPlease visit our Calls to Action page to learn more about the topics Eastside For All is working on\, and for more details about how to provide public comment!
URL:https://bh.eastsideforall.org/advocacy-event/redmond-city-council-business-meeting/
LOCATION:Redmond City Hall\, 15670 NE 85th St\, Redmond\, WA\, 98052
CATEGORIES:City of Redmond,Council Meeting
END:VEVENT
BEGIN:VEVENT
DTSTART;TZID=America/Los_Angeles:20260210T180000
DTEND;TZID=America/Los_Angeles:20260210T200000
DTSTAMP:20260425T124407
CREATED:20260130T234748Z
LAST-MODIFIED:20260130T234815Z
UID:10002402-1770746400-1770753600@bh.eastsideforall.org
SUMMARY:Sacred Circle: BIPOC Affinity Space
DESCRIPTION:Join your Eastside For All community for a warm invite. We will be hosting a craft night healing space that centers and holds us in these cold times. \nWhen: February 10\, 2026 \nTime: 6 pm – 8 pm \nWhere: The Together Center Redmond\, WA \n  \nThings to bring: \n\nJournal\nCraft project to work on\nSnacks to share if you have any!\n\n  \nIf you have any questions please contact Angelica\, Angelica@eastsideforall.org\, 425-247-1118.
URL:https://bh.eastsideforall.org/advocacy-event/sacred-circle-bipoc-affinity-space/
LOCATION:WA
END:VEVENT
BEGIN:VEVENT
DTSTART;TZID=America/Los_Angeles:20260210T180000
DTEND;TZID=America/Los_Angeles:20260210T200000
DTSTAMP:20260425T124407
CREATED:20260210T004452Z
LAST-MODIFIED:20260210T004452Z
UID:10002406-1770746400-1770753600@bh.eastsideforall.org
SUMMARY:Bellevue City Council Meeting
DESCRIPTION:The Bellevue City Council meets at 6 pm on the first four Tuesdays of each month at City Hall\, 450 110th Ave NE\, and is able to be viewed via Zoom (webinar ID 871 6827 7098\, password 534267)\, live on Bellevue TV channel 21\, or livestreamed on Bellevue Television YouTube. The agenda for the coming meeting is usually posted on the meeting calendar the Thursday before the meeting.  \nPlease visit our Calls to Action page to learn more about the topics Eastside For All is working on\, and for more details about how to provide public comment!
URL:https://bh.eastsideforall.org/advocacy-event/bellevue-city-council-meeting-5/
LOCATION:Bellevue City Hall\, 450 110th Avenue NE\, Bellevue\, WA\, 98004\, United States
CATEGORIES:City of Bellevue,Council Meeting
END:VEVENT
BEGIN:VEVENT
DTSTART;TZID=America/Los_Angeles:20260210T190000
DTEND;TZID=America/Los_Angeles:20260210T210000
DTSTAMP:20260425T124407
CREATED:20260128T182916Z
LAST-MODIFIED:20260128T182916Z
UID:10002400-1770750000-1770757200@bh.eastsideforall.org
SUMMARY:Redmond City Council Study Session
DESCRIPTION:The Redmond City Council meets at 7 pm every Tuesday (except for the fifth Tuesday of a month) at Redmond City Hall. Meetings can be watched live on RCTV (redmond.gov/rctvlive)\, Comcast Channel 21/321\, Ziply Channel 34\, YouTube (https://www.youtube.com/@CityofRedmond/streams)\, or you can listen live by calling 510-335-7371. \nPlease visit our Calls to Action page to learn more about the topics Eastside For All is working on\, and for more details about how to provide public comment!
URL:https://bh.eastsideforall.org/advocacy-event/redmond-city-council-study-session/
LOCATION:Redmond City Hall\, 15670 NE 85th St\, Redmond\, WA\, 98052
CATEGORIES:City of Redmond,Council Meeting
END:VEVENT
BEGIN:VEVENT
DTSTART;TZID=America/Los_Angeles:20260211T183000
DTEND;TZID=America/Los_Angeles:20260211T203000
DTSTAMP:20260425T124407
CREATED:20260202T235632Z
LAST-MODIFIED:20260202T235632Z
UID:10002405-1770834600-1770841800@bh.eastsideforall.org
SUMMARY:Bellevue Planning Commission Meeting
DESCRIPTION:The Bellevue Planning Commission meets at 6:30 pm on the second and fourth Wednesdays of each month in Conference Room 1E-113 at City Hall (450 110th Ave NE)\, and is able to be viewed via Zoom (passcode 983801). The agenda for the coming meeting is usually posted on the meeting calendar.  \nPlease visit our Calls to Action page to learn more about the topics Eastside For All is working on\, and for more details about how to provide public comment!
URL:https://bh.eastsideforall.org/advocacy-event/bellevue-planning-commission-meeting-3/
LOCATION:Bellevue City Hall\, 450 110th Avenue NE\, Bellevue\, WA\, 98004\, United States
CATEGORIES:City of Bellevue
END:VEVENT
BEGIN:VEVENT
DTSTART;TZID=America/Los_Angeles:20260211T190000
DTEND;TZID=America/Los_Angeles:20260211T210000
DTSTAMP:20260425T124407
CREATED:20251212T011314Z
LAST-MODIFIED:20260128T182649Z
UID:10002376-1770836400-1770843600@bh.eastsideforall.org
SUMMARY:Redmond Planning Commission Meeting
DESCRIPTION:The Redmond Planning Commission meets at 7 pm on the second and fourth Wednesdays of each month in the City Council Chambers. Special meetings occur occasionally on the first\, third\, and/or fifth Wednesdays.  \nPlanning Commission meetings can be viewed live on RCTV online (redmond.gov/rctvlive)\, Comcast Channel 21/321\, Ziply Channel 34\, YouTube (https://www.youtube.com/@CityofRedmond/streams)\, or you can listen live by calling 510-335-7371. OnDemand viewing is posted within 24 hours\, with replays shown on a regular schedule. \nPlease visit our Calls to Action page to learn more about the topics Eastside For All is working on\, and for more details about how to provide public comment!
URL:https://bh.eastsideforall.org/advocacy-event/redmond-planning-commission-meeting-2/
LOCATION:Redmond City Hall\, 15670 NE 85th St\, Redmond\, WA\, 98052
CATEGORIES:City of Redmond
END:VEVENT
BEGIN:VEVENT
DTSTART;TZID=America/Los_Angeles:20260217T190000
DTEND;TZID=America/Los_Angeles:20260217T210000
DTSTAMP:20260425T124407
CREATED:20260128T182844Z
LAST-MODIFIED:20260128T182844Z
UID:10002399-1771354800-1771362000@bh.eastsideforall.org
SUMMARY:Redmond City Council Business Meeting
DESCRIPTION:The Redmond City Council meets at 7 pm every Tuesday (except for the fifth Tuesday of a month) at Redmond City Hall. Meetings can be watched live on RCTV (redmond.gov/rctvlive)\, Comcast Channel 21/321\, Ziply Channel 34\, YouTube (https://www.youtube.com/@CityofRedmond/streams)\, or you can listen live by calling 510-335-7371. \nPlease visit our Calls to Action page to learn more about the topics Eastside For All is working on\, and for more details about how to provide public comment!
URL:https://bh.eastsideforall.org/advocacy-event/redmond-city-council-business-meeting-2/
LOCATION:Redmond City Hall\, 15670 NE 85th St\, Redmond\, WA\, 98052
CATEGORIES:City of Redmond,Council Meeting
END:VEVENT
BEGIN:VEVENT
DTSTART;TZID=America/Los_Angeles:20260217T190000
DTEND;TZID=America/Los_Angeles:20260217T210000
DTSTAMP:20260425T124407
CREATED:20260304T224145Z
LAST-MODIFIED:20260304T224145Z
UID:10002420-1771354800-1771362000@bh.eastsideforall.org
SUMMARY:Redmond City Council Business Meeting
DESCRIPTION:The Redmond City Council meets at 7 pm every Tuesday (except for the fifth Tuesday of a month) at Redmond City Hall. Meetings can be watched live on RCTV (redmond.gov/rctvlive)\, Comcast Channel 21/321\, Ziply Channel 34\, YouTube (https://www.youtube.com/@CityofRedmond/streams)\, or you can listen live by calling 510-335-7371. \nPlease visit our Calls to Action page to learn more about the topics Eastside For All is working on\, and for more details about how to provide public comment!
URL:https://bh.eastsideforall.org/advocacy-event/redmond-city-council-business-meeting-3/
LOCATION:Redmond City Hall\, 15670 NE 85th St\, Redmond\, WA\, 98052
CATEGORIES:City of Redmond,Council Meeting
END:VEVENT
BEGIN:VEVENT
DTSTART;TZID=America/Los_Angeles:20260221T103000
DTEND;TZID=America/Los_Angeles:20260221T113000
DTSTAMP:20260425T124407
CREATED:20260221T013220Z
LAST-MODIFIED:20260221T013346Z
UID:10002414-1771669800-1771673400@bh.eastsideforall.org
SUMMARY:District 5 IN-PERSON Town Hall
DESCRIPTION:Town Halls are the perfect place to be heard by lawmakers outside of the State Capitol. Your elected officials are able to connect with people like you in more intimate settings that can foster more dialogue and conversations. Town Hall will be with Senator Victoria Hunt\, Representative Lisa Callan\, and Representative Zach Hall.
URL:https://bh.eastsideforall.org/advocacy-event/district-5-in-person-town-hall/
LOCATION:Tahoma High School\, 23499 SE Tahoma Way\, Maple Valley\, WA\, 98038\, United States
CATEGORIES:State Advocacy
END:VEVENT
BEGIN:VEVENT
DTSTART;TZID=America/Los_Angeles:20260221T110000
DTEND;TZID=America/Los_Angeles:20260221T120000
DTSTAMP:20260425T124407
CREATED:20260221T013322Z
LAST-MODIFIED:20260221T013515Z
UID:10002415-1771671600-1771675200@bh.eastsideforall.org
SUMMARY:District 41 IN-PERSON Town Hall
DESCRIPTION:Town Halls are the perfect place to be heard by lawmakers outside of the State Capitol. Your elected officials are able to connect with people like you in more intimate settings that can foster more dialogue and conversations. Town Hall will be with Senator Lisa Wellman\, Representative My-Linh Thai\, and Representative Janice Zahn.
URL:https://bh.eastsideforall.org/advocacy-event/district-41-in-person-town-hall/
LOCATION:Mercer Island Community & Event Center\, 8236 SE 24th St\, Mercer Island\, 98040\, United States
CATEGORIES:State Advocacy
END:VEVENT
BEGIN:VEVENT
DTSTART;TZID=America/Los_Angeles:20260221T120000
DTEND;TZID=America/Los_Angeles:20260221T130000
DTSTAMP:20260425T124407
CREATED:20260221T013505Z
LAST-MODIFIED:20260221T013505Z
UID:10002416-1771675200-1771678800@bh.eastsideforall.org
SUMMARY:District 45 IN-PERSON Town Hall
DESCRIPTION:Town Halls are the perfect place to be heard by lawmakers outside of the State Capitol. Your elected officials are able to connect with people like you in more intimate settings that can foster more dialogue and conversations. Town Hall will be with Senator Manka Dhingra\, Representative Roger Goodman\, and Representative Larry Springer at the Lake Washington Institute of Technology in the West Building\, Room W404 in Kirkland.
URL:https://bh.eastsideforall.org/advocacy-event/district-45-in-person-town-hall/
LOCATION:Lake Washington Institute of Technology\, 11605 132nd Ave NE\, Kirkland\, WA\, 98034
CATEGORIES:State Advocacy
END:VEVENT
BEGIN:VEVENT
DTSTART;TZID=America/Los_Angeles:20260223T173000
DTEND;TZID=America/Los_Angeles:20260223T193000
DTSTAMP:20260425T124407
CREATED:20260221T011232Z
LAST-MODIFIED:20260221T011232Z
UID:10002411-1771867800-1771875000@bh.eastsideforall.org
SUMMARY:Bellevue: IN-PERSON BelRed Look Forward Open House
DESCRIPTION:Join us Monday\, Feb. 23 at the Highland Community Center for an open house to explore proposed updates to the BelRed Land Use Code. Share your feedback on updates to the code that will be guide housing and job growth\, transit-oriented development and the BelRed Arts District with the planning team. Drop in anytime\, enjoy light refreshments and help shape the future of this vibrant neighborhood. Registration is encouraged. Review the draft code at BellevueWA.gov/belred-look-forward.
URL:https://bh.eastsideforall.org/advocacy-event/bellevue-in-person-belred-look-forward-open-house/
LOCATION:Highland Community Center\, 14224 NE Bel Red Road\, Bellevue\, WA\, 98007
CATEGORIES:City of Bellevue,Community Forum
END:VEVENT
BEGIN:VEVENT
DTSTART;TZID=America/Los_Angeles:20260223T183000
DTEND;TZID=America/Los_Angeles:20260223T193000
DTSTAMP:20260425T124407
CREATED:20260221T013711Z
LAST-MODIFIED:20260221T013711Z
UID:10002417-1771871400-1771875000@bh.eastsideforall.org
SUMMARY:District 1 TELEPHONE Town Hall
DESCRIPTION:Town Halls are the perfect place to be heard by lawmakers outside of the State Capitol. Your elected officials are able to connect with people like you in more intimate settings that can foster more dialogue and conversations. Town Hall will be over the phone with Senator Derek Stanford\, Representative Shelley Kloba\, and Representative Davina Duerr. \nParticipant line: 855-756-7520 extension 129671#
URL:https://bh.eastsideforall.org/advocacy-event/district-1-telephone-town-hall/
LOCATION:WA
CATEGORIES:State Advocacy
END:VEVENT
BEGIN:VEVENT
DTSTART;TZID=America/Los_Angeles:20260224T180000
DTEND;TZID=America/Los_Angeles:20260224T200000
DTSTAMP:20260425T124407
CREATED:20260221T011727Z
LAST-MODIFIED:20260221T011803Z
UID:10002413-1771956000-1771963200@bh.eastsideforall.org
SUMMARY:Bellevue City Council Meeting
DESCRIPTION:The Bellevue City Council meets at 6 pm on the first four Tuesdays of each month at City Hall\, 450 110th Ave NE\, and is able to be viewed via Zoom (webinar ID 871 6827 7098\, password 534267)\, live on Bellevue TV channel 21\, or livestreamed on Bellevue Television YouTube. The agenda for the coming meeting is usually posted on the meeting calendar the Thursday before the meeting.  \nThe Housing Opportunities in Mixed-Use Areas (HOMA) amendment proposal includes higher density\, taller buildings and updates to last use districts and maps to encourage more housing development in mixed-use areas in Bellevue. The City Council will have a study session on the proposed updates on Tuesday\, February 24. Additional information\, including a timeline of the project\, informational materials and draft code language\, is available at BellevueWA.gov/HOMA.  \nPlease visit our Calls to Action page to learn more about the topics Eastside For All is working on\, and for more details about how to provide public comment!
URL:https://bh.eastsideforall.org/advocacy-event/bellevue-city-council-meeting-6/
LOCATION:Bellevue City Hall\, 450 110th Avenue NE\, Bellevue\, WA\, 98004\, United States
CATEGORIES:City of Bellevue,Council Meeting
END:VEVENT
BEGIN:VEVENT
DTSTART;TZID=America/Los_Angeles:20260224T190000
DTEND;TZID=America/Los_Angeles:20260224T210000
DTSTAMP:20260425T124407
CREATED:20260128T182930Z
LAST-MODIFIED:20260128T182930Z
UID:10002401-1771959600-1771966800@bh.eastsideforall.org
SUMMARY:Redmond City Council Study Session
DESCRIPTION:The Redmond City Council meets at 7 pm every Tuesday (except for the fifth Tuesday of a month) at Redmond City Hall. Meetings can be watched live on RCTV (redmond.gov/rctvlive)\, Comcast Channel 21/321\, Ziply Channel 34\, YouTube (https://www.youtube.com/@CityofRedmond/streams)\, or you can listen live by calling 510-335-7371. \nPlease visit our Calls to Action page to learn more about the topics Eastside For All is working on\, and for more details about how to provide public comment!
URL:https://bh.eastsideforall.org/advocacy-event/redmond-city-council-study-session-2/
LOCATION:Redmond City Hall\, 15670 NE 85th St\, Redmond\, WA\, 98052
CATEGORIES:City of Redmond,Council Meeting
END:VEVENT
BEGIN:VEVENT
DTSTART;TZID=America/Los_Angeles:20260225T183000
DTEND;TZID=America/Los_Angeles:20260225T203000
DTSTAMP:20260425T124407
CREATED:20260219T195034Z
LAST-MODIFIED:20260219T195034Z
UID:10002408-1772044200-1772051400@bh.eastsideforall.org
SUMMARY:Bellevue Planning Commission Meeting
DESCRIPTION:The Bellevue Planning Commission meets at 6:30 pm on the second and fourth Wednesdays of each month in Conference Room 1E-113 at City Hall (450 110th Ave NE)\, and is able to be viewed via Zoom (passcode 983801). The agenda for the coming meeting is usually posted on the meeting calendar.  \nPlease visit our Calls to Action page to learn more about the topics Eastside For All is working on\, and for more details about how to provide public comment!
URL:https://bh.eastsideforall.org/advocacy-event/bellevue-planning-commission-meeting-4/
LOCATION:Bellevue City Hall\, 450 110th Avenue NE\, Bellevue\, WA\, 98004\, United States
CATEGORIES:City of Bellevue
END:VEVENT
BEGIN:VEVENT
DTSTART;TZID=America/Los_Angeles:20260225T190000
DTEND;TZID=America/Los_Angeles:20260225T210000
DTSTAMP:20260425T124407
CREATED:20260128T182607Z
LAST-MODIFIED:20260128T182640Z
UID:10002397-1772046000-1772053200@bh.eastsideforall.org
SUMMARY:Redmond Planning Commission Meeting
DESCRIPTION:The Redmond Planning Commission meets at 7 pm on the second and fourth Wednesdays of each month in the City Council Chambers. Special meetings occur occasionally on the first\, third\, and/or fifth Wednesdays.  \nPlanning Commission meetings can be viewed live on RCTV online (redmond.gov/rctvlive)\, Comcast Channel 21/321\, Ziply Channel 34\, YouTube (https://www.youtube.com/@CityofRedmond/streams)\, or you can listen live by calling 510-335-7371. OnDemand viewing is posted within 24 hours\, with replays shown on a regular schedule. \nPlease visit our Calls to Action page to learn more about the topics Eastside For All is working on\, and for more details about how to provide public comment!
URL:https://bh.eastsideforall.org/advocacy-event/redmond-planning-commission-meeting-3/
LOCATION:Redmond City Hall\, 15670 NE 85th St\, Redmond\, WA\, 98052
CATEGORIES:City of Redmond
END:VEVENT
BEGIN:VEVENT
DTSTART;TZID=America/Los_Angeles:20260226T173000
DTEND;TZID=America/Los_Angeles:20260226T193000
DTSTAMP:20260425T124407
CREATED:20260221T011008Z
LAST-MODIFIED:20260221T011008Z
UID:10002409-1772127000-1772134200@bh.eastsideforall.org
SUMMARY:Bellevue: IN-PERSON Draft Affordable Housing Strategy Info Session
DESCRIPTION:Learn about the recommended updates in Bellevue’s draft 2026-2032 Affordable Housing Strategy and how you can provide feedback. \nRegister at draft-ahs-info-sessions.eventbrite.com \nThe draft strategy was developed over the past 15 months with input from more than 650 residents and 60 organizations and will replace the city’s initial strategy adopted in 2017. \nView Draft 2026-2032 Affordable Housing Strategy \nView Draft Affordable Housing Action Plan \nShort on time? View At a Glance: Strategies and Priority Actions
URL:https://bh.eastsideforall.org/advocacy-event/bellevue-in-person-draft-affordable-housing-strategy-info-session/
LOCATION:Bellevue City Hall\, 450 110th Avenue NE\, Bellevue\, WA\, 98004\, United States
CATEGORIES:City of Bellevue,Community Forum,Housing Justice
END:VEVENT
BEGIN:VEVENT
DTSTART;TZID=America/Los_Angeles:20260226T180000
DTEND;TZID=America/Los_Angeles:20260226T200000
DTSTAMP:20260425T124407
CREATED:20260128T182049Z
LAST-MODIFIED:20260223T195631Z
UID:10002395-1772128800-1772136000@bh.eastsideforall.org
SUMMARY:Kirkland Planning Commission Meeting
DESCRIPTION:The Kirkland Planning Commission meets at 6 pm on the second and fourth Thursday of each month in the Council Chambers at City Hall\, 123 5th Ave.  \nYou can watch or participate in regular meetings and study sessions via Zoom\, either by calling 253-215-8782 or online here (webinar ID 840 3881 2324\, passcode 114965). The meetings are recorded and posted on the City’s website. \nPlanning staff will present 3 options for parking changes (listed below)\, discuss the options\, and give input to the staff about what they’d like to see in the ordinance. Planning staff will bring a draft ordinance to the March 12 Planning Commission meeting\, which will include a public hearing. If you wish to submit comments to the Planning Commission\, please send an email to planningcommissioners@kirkland.wa.gov! \n\nOption 1: Amend the zoning code as soon as possible to match Senate Bill 5184 (effective January 2027)\, consolidate parking requirement information\, and create new separate bicycle parking requirements. This option is favored by all councilmembers.\nOption 2: Include everything from Option 1\, and remove parking requirements from the 85th Street Station Area to incentivize development. This option is supported by most councilmembers.\nOption 3: Add to either Option 1 or Option 2 a limited exemption to waive parking requirements for expansion of an existing commercial building. This option is favored by all councilmembers.\n\nPlease visit our Calls to Action page to learn more about the topics Eastside For All is working on\, and for more details about how to provide public comment!
URL:https://bh.eastsideforall.org/advocacy-event/kirkland-planning-commission-meeting-3/
LOCATION:Kirkland City Hall\, 123 5th Ave\, Kirkand\, WA\, 98033
CATEGORIES:City of Kirkland
END:VEVENT
BEGIN:VEVENT
DTSTART;TZID=America/Los_Angeles:20260226T180000
DTEND;TZID=America/Los_Angeles:20260226T200000
DTSTAMP:20260425T124407
CREATED:20260210T004825Z
LAST-MODIFIED:20260210T004825Z
UID:10002407-1772128800-1772136000@bh.eastsideforall.org
SUMMARY:Redmond City Council Special Meeting
DESCRIPTION:The Redmond City Council meets at 7 pm every Tuesday (except for the fifth Tuesday of a month) at Redmond City Hall. Meetings can be watched live on RCTV (redmond.gov/rctvlive)\, Comcast Channel 21/321\, Ziply Channel 34\, Facebook/YouTube (@CityofRedmond)\, or you can listen live by calling 510-335-7371.  \nPlease visit our Calls to Action page to learn more about the topics Eastside For All is working on\, and for more details about how to provide public comment!
URL:https://bh.eastsideforall.org/advocacy-event/redmond-city-council-special-meeting-10/
LOCATION:Redmond City Hall\, 15670 NE 85th St\, Redmond\, WA\, 98052
CATEGORIES:City of Redmond,Council Meeting
END:VEVENT
BEGIN:VEVENT
DTSTART;TZID=America/Los_Angeles:20260228T130000
DTEND;TZID=America/Los_Angeles:20260228T160000
DTSTAMP:20260425T124407
CREATED:20260221T011510Z
LAST-MODIFIED:20260221T011510Z
UID:10002412-1772283600-1772294400@bh.eastsideforall.org
SUMMARY:Bellevue: IN-PERSON Eastgate and Factoria Workshop
DESCRIPTION:Join our upcoming Great Neighborhoods Urban Design Workshop on Saturday\, Feb. 28\, 1-4 p.m. at Hyatt House Seattle/Bellevue. Share your ideas on how to make public spaces in Eastgate and Factoria more livable\, walkable and welcoming. To register and find more information\, visit Great-Neighborhoods-Urban-Design-Workshop.Eventbrite.com.
URL:https://bh.eastsideforall.org/advocacy-event/bellevue-in-person-eastgate-and-factoria-workshop/
LOCATION:Hyatt House Seattle/Bellevue\, 3244 139th Ave SE\, Bellevue\, WA\, 98005\, United States
CATEGORIES:City of Bellevue,Community Forum
END:VEVENT
END:VCALENDAR