BEGIN:VCALENDAR
VERSION:2.0
PRODID:-//Eastside for All - ECPv6.15.20//NONSGML v1.0//EN
CALSCALE:GREGORIAN
METHOD:PUBLISH
X-ORIGINAL-URL:https://bh.eastsideforall.org
X-WR-CALDESC:Events for Eastside for All
REFRESH-INTERVAL;VALUE=DURATION:PT1H
X-Robots-Tag:noindex
X-PUBLISHED-TTL:PT1H
BEGIN:VTIMEZONE
TZID:America/Los_Angeles
BEGIN:DAYLIGHT
TZOFFSETFROM:-0800
TZOFFSETTO:-0700
TZNAME:PDT
DTSTART:20250309T100000
END:DAYLIGHT
BEGIN:STANDARD
TZOFFSETFROM:-0700
TZOFFSETTO:-0800
TZNAME:PST
DTSTART:20251102T090000
END:STANDARD
BEGIN:DAYLIGHT
TZOFFSETFROM:-0800
TZOFFSETTO:-0700
TZNAME:PDT
DTSTART:20260308T100000
END:DAYLIGHT
BEGIN:STANDARD
TZOFFSETFROM:-0700
TZOFFSETTO:-0800
TZNAME:PST
DTSTART:20261101T090000
END:STANDARD
BEGIN:DAYLIGHT
TZOFFSETFROM:-0800
TZOFFSETTO:-0700
TZNAME:PDT
DTSTART:20270314T100000
END:DAYLIGHT
BEGIN:STANDARD
TZOFFSETFROM:-0700
TZOFFSETTO:-0800
TZNAME:PST
DTSTART:20271107T090000
END:STANDARD
END:VTIMEZONE
BEGIN:VEVENT
DTSTART;TZID=America/Los_Angeles:20260428T190000
DTEND;TZID=America/Los_Angeles:20260428T223000
DTSTAMP:20260425T090349
CREATED:20260327T193317Z
LAST-MODIFIED:20260327T193317Z
UID:10002444-1777402800-1777415400@bh.eastsideforall.org
SUMMARY:Redmond City Council Study Session
DESCRIPTION:The Redmond City Council meets at 7 pm every Tuesday (except for the fifth Tuesday of a month) at Redmond City Hall. Meetings can be watched live on RCTV (redmond.gov/rctvlive)\, Comcast Channel 21/321\, Ziply Channel 34\, YouTube (https://www.youtube.com/@CityofRedmond/streams)\, or you can listen live by calling 510-335-7371. \nPlease visit our Calls to Action page to learn more about the topics Eastside For All is working on\, and for more details about how to provide public comment!
URL:https://bh.eastsideforall.org/advocacy-event/redmond-city-council-study-session-5/
LOCATION:Redmond City Hall\, 15670 NE 85th St\, Redmond\, WA\, 98052
CATEGORIES:City of Redmond,Council Meeting
END:VEVENT
END:VCALENDAR